BEGIN:VCALENDAR
VERSION:2.0
PRODID:-//CEC - ECPv6.1.1//NONSGML v1.0//EN
CALSCALE:GREGORIAN
METHOD:PUBLISH
X-ORIGINAL-URL:https://cec.konicaminolta.eu
X-WR-CALDESC:Events for CEC
REFRESH-INTERVAL;VALUE=DURATION:PT1H
X-Robots-Tag:noindex
X-PUBLISHED-TTL:PT1H
BEGIN:VTIMEZONE
TZID:UTC
BEGIN:STANDARD
TZOFFSETFROM:+0000
TZOFFSETTO:+0000
TZNAME:UTC
DTSTART:20210101T000000
END:STANDARD
END:VTIMEZONE
BEGIN:VEVENT
DTSTART;VALUE=DATE:20211101
DTEND;VALUE=DATE:20211102
DTSTAMP:20260421T135255
CREATED:20210927T075941Z
LAST-MODIFIED:20211105T131226Z
UID:28479-1635724800-1635811199@cec.konicaminolta.eu
SUMMARY:Public holiday
DESCRIPTION:[vc_row row_type="row" use_row_as_full_screen_section="no" type="full_width" text_align="left" background_animation="none" css_animation=""][vc_column][vc_row_inner row_type="row" type="full_width" use_row_as_full_screen_section_slide="no" text_align="left" css_animation=""][vc_column_inner width="1/4"][/vc_column_inner][vc_column_inner width="1/2"][vc_empty_space height="20px"][vc_column_text] \nDear visitor\,\n  \nThis content is locked and intended for registered users only.\nIf you wish to gain access to it\, please send the registration details via the form below\, and our colleagues will contact you and set it up for you. \n  \nThank you for visiting\, \n  \nKonicaMinolta Slovakia \n[/vc_column_text][vc_empty_space][/vc_column_inner][vc_column_inner width="1/4"][/vc_column_inner][/vc_row_inner][vc_row_inner row_type="row" type="full_width" use_row_as_full_screen_section_slide="no" text_align="left" css_animation=""][vc_column_inner width="1/4"][/vc_column_inner][vc_column_inner width="1/2"] \n\n\n\n\n\n\n\n\n\n\n\n\n\n\n\n Your Title\nMrMrs\n \n Your First and Last Name\n \n \n Your Email\n \n \n Your Company\n \n \n\n \n\n\n\n[vc_empty_space][/vc_column_inner][vc_column_inner width="1/4"][/vc_column_inner][/vc_row_inner][/vc_column][/vc_row]
URL:https://cec.konicaminolta.eu/event/public-holiday-6/
LOCATION:Toto bude dalsi nazov\, Galvaniho 6\, Bratislava\, Slovakia (Slovak Republic)
CATEGORIES:Demo preparation
END:VEVENT
BEGIN:VEVENT
DTSTART;TZID=UTC:20211103T080000
DTEND;TZID=UTC:20211103T160000
DTSTAMP:20260421T135255
CREATED:20210927T075715Z
LAST-MODIFIED:20211105T131219Z
UID:28469-1635926400-1635955200@cec.konicaminolta.eu
SUMMARY:Demo preparation
DESCRIPTION:[vc_row row_type="row" use_row_as_full_screen_section="no" type="full_width" text_align="left" background_animation="none" css_animation=""][vc_column][vc_row_inner row_type="row" type="full_width" use_row_as_full_screen_section_slide="no" text_align="left" css_animation=""][vc_column_inner width="1/4"][/vc_column_inner][vc_column_inner width="1/2"][vc_empty_space height="20px"][vc_column_text] \nDear visitor\,\n  \nThis content is locked and intended for registered users only.\nIf you wish to gain access to it\, please send the registration details via the form below\, and our colleagues will contact you and set it up for you. \n  \nThank you for visiting\, \n  \nKonicaMinolta Slovakia \n[/vc_column_text][vc_empty_space][/vc_column_inner][vc_column_inner width="1/4"][/vc_column_inner][/vc_row_inner][vc_row_inner row_type="row" type="full_width" use_row_as_full_screen_section_slide="no" text_align="left" css_animation=""][vc_column_inner width="1/4"][/vc_column_inner][vc_column_inner width="1/2"] \n\n\n\n\n\n\n\n\n\n\n\n\n\n\n\n Your Title\nMrMrs\n \n Your First and Last Name\n \n \n Your Email\n \n \n Your Company\n \n \n\n \n\n\n\n[vc_empty_space][/vc_column_inner][vc_column_inner width="1/4"][/vc_column_inner][/vc_row_inner][/vc_column][/vc_row]
URL:https://cec.konicaminolta.eu/event/demo-preparation-66/
LOCATION:Toto bude dalsi nazov\, Galvaniho 6\, Bratislava\, Slovakia (Slovak Republic)
CATEGORIES:Demo preparation
END:VEVENT
BEGIN:VEVENT
DTSTART;TZID=UTC:20211104T080000
DTEND;TZID=UTC:20211104T160000
DTSTAMP:20260421T135255
CREATED:20210927T080104Z
LAST-MODIFIED:20211105T131214Z
UID:28483-1636012800-1636041600@cec.konicaminolta.eu
SUMMARY:Demo BCZ- Model Opava
DESCRIPTION:[vc_row row_type="row" use_row_as_full_screen_section="no" type="full_width" text_align="left" background_animation="none" css_animation=""][vc_column][vc_row_inner row_type="row" type="full_width" use_row_as_full_screen_section_slide="no" text_align="left" css_animation=""][vc_column_inner width="1/4"][/vc_column_inner][vc_column_inner width="1/2"][vc_empty_space height="20px"][vc_column_text] \nDear visitor\,\n  \nThis content is locked and intended for registered users only.\nIf you wish to gain access to it\, please send the registration details via the form below\, and our colleagues will contact you and set it up for you. \n  \nThank you for visiting\, \n  \nKonicaMinolta Slovakia \n[/vc_column_text][vc_empty_space][/vc_column_inner][vc_column_inner width="1/4"][/vc_column_inner][/vc_row_inner][vc_row_inner row_type="row" type="full_width" use_row_as_full_screen_section_slide="no" text_align="left" css_animation=""][vc_column_inner width="1/4"][/vc_column_inner][vc_column_inner width="1/2"] \n\n\n\n\n\n\n\n\n\n\n\n\n\n\n\n Your Title\nMrMrs\n \n Your First and Last Name\n \n \n Your Email\n \n \n Your Company\n \n \n\n \n\n\n\n[vc_empty_space][/vc_column_inner][vc_column_inner width="1/4"][/vc_column_inner][/vc_row_inner][/vc_column][/vc_row]
URL:https://cec.konicaminolta.eu/event/demo-bcz-model-opava/
LOCATION:Toto bude dalsi nazov\, Galvaniho 6\, Bratislava\, Slovakia (Slovak Republic)
CATEGORIES:Demo preparation
END:VEVENT
BEGIN:VEVENT
DTSTART;VALUE=DATE:20211105
DTEND;VALUE=DATE:20211106
DTSTAMP:20260421T135255
CREATED:20210927T080550Z
LAST-MODIFIED:20211105T131207Z
UID:28495-1636070400-1636156799@cec.konicaminolta.eu
SUMMARY:Maintenance
DESCRIPTION:[vc_row row_type="row" use_row_as_full_screen_section="no" type="full_width" text_align="left" background_animation="none" css_animation=""][vc_column][vc_row_inner row_type="row" type="full_width" use_row_as_full_screen_section_slide="no" text_align="left" css_animation=""][vc_column_inner width="1/4"][/vc_column_inner][vc_column_inner width="1/2"][vc_empty_space height="20px"][vc_column_text] \nDear visitor\,\n  \nThis content is locked and intended for registered users only.\nIf you wish to gain access to it\, please send the registration details via the form below\, and our colleagues will contact you and set it up for you. \n  \nThank you for visiting\, \n  \nKonicaMinolta Slovakia \n[/vc_column_text][vc_empty_space][/vc_column_inner][vc_column_inner width="1/4"][/vc_column_inner][/vc_row_inner][vc_row_inner row_type="row" type="full_width" use_row_as_full_screen_section_slide="no" text_align="left" css_animation=""][vc_column_inner width="1/4"][/vc_column_inner][vc_column_inner width="1/2"] \n\n\n\n\n\n\n\n\n\n\n\n\n\n\n\n Your Title\nMrMrs\n \n Your First and Last Name\n \n \n Your Email\n \n \n Your Company\n \n \n\n \n\n\n\n[vc_empty_space][/vc_column_inner][vc_column_inner width="1/4"][/vc_column_inner][/vc_row_inner][/vc_column][/vc_row]
URL:https://cec.konicaminolta.eu/event/maintenance-38/
LOCATION:Toto bude dalsi nazov\, Galvaniho 6\, Bratislava\, Slovakia (Slovak Republic)
CATEGORIES:Demo preparation
END:VEVENT
BEGIN:VEVENT
DTSTART;TZID=UTC:20211108T080000
DTEND;TZID=UTC:20211108T160000
DTSTAMP:20260421T135255
CREATED:20210927T075408Z
LAST-MODIFIED:20211105T131201Z
UID:28461-1636358400-1636387200@cec.konicaminolta.eu
SUMMARY:Demo preparation
DESCRIPTION:[vc_row row_type="row" use_row_as_full_screen_section="no" type="full_width" text_align="left" background_animation="none" css_animation=""][vc_column][vc_row_inner row_type="row" type="full_width" use_row_as_full_screen_section_slide="no" text_align="left" css_animation=""][vc_column_inner width="1/4"][/vc_column_inner][vc_column_inner width="1/2"][vc_empty_space height="20px"][vc_column_text] \nDear visitor\,\n  \nThis content is locked and intended for registered users only.\nIf you wish to gain access to it\, please send the registration details via the form below\, and our colleagues will contact you and set it up for you. \n  \nThank you for visiting\, \n  \nKonicaMinolta Slovakia \n[/vc_column_text][vc_empty_space][/vc_column_inner][vc_column_inner width="1/4"][/vc_column_inner][/vc_row_inner][vc_row_inner row_type="row" type="full_width" use_row_as_full_screen_section_slide="no" text_align="left" css_animation=""][vc_column_inner width="1/4"][/vc_column_inner][vc_column_inner width="1/2"] \n\n\n\n\n\n\n\n\n\n\n\n\n\n\n\n Your Title\nMrMrs\n \n Your First and Last Name\n \n \n Your Email\n \n \n Your Company\n \n \n\n \n\n\n\n[vc_empty_space][/vc_column_inner][vc_column_inner width="1/4"][/vc_column_inner][/vc_row_inner][/vc_column][/vc_row]
URL:https://cec.konicaminolta.eu/event/demo-preparation-62/
LOCATION:Toto bude dalsi nazov\, Galvaniho 6\, Bratislava\, Slovakia (Slovak Republic)
CATEGORIES:Demo preparation
END:VEVENT
BEGIN:VEVENT
DTSTART;TZID=UTC:20211109T090000
DTEND;TZID=UTC:20211109T160000
DTSTAMP:20260421T135255
CREATED:20210927T080154Z
LAST-MODIFIED:20211105T131155Z
UID:28485-1636448400-1636473600@cec.konicaminolta.eu
SUMMARY:Demo BCZ- Brázda- KM-1+ EVO
DESCRIPTION:[vc_row row_type="row" use_row_as_full_screen_section="no" type="full_width" text_align="left" background_animation="none" css_animation=""][vc_column][vc_row_inner row_type="row" type="full_width" use_row_as_full_screen_section_slide="no" text_align="left" css_animation=""][vc_column_inner width="1/4"][/vc_column_inner][vc_column_inner width="1/2"][vc_empty_space height="20px"][vc_column_text] \nDear visitor\,\n  \nThis content is locked and intended for registered users only.\nIf you wish to gain access to it\, please send the registration details via the form below\, and our colleagues will contact you and set it up for you. \n  \nThank you for visiting\, \n  \nKonicaMinolta Slovakia \n[/vc_column_text][vc_empty_space][/vc_column_inner][vc_column_inner width="1/4"][/vc_column_inner][/vc_row_inner][vc_row_inner row_type="row" type="full_width" use_row_as_full_screen_section_slide="no" text_align="left" css_animation=""][vc_column_inner width="1/4"][/vc_column_inner][vc_column_inner width="1/2"] \n\n\n\n\n\n\n\n\n\n\n\n\n\n\n\n Your Title\nMrMrs\n \n Your First and Last Name\n \n \n Your Email\n \n \n Your Company\n \n \n\n \n\n\n\n[vc_empty_space][/vc_column_inner][vc_column_inner width="1/4"][/vc_column_inner][/vc_row_inner][/vc_column][/vc_row]
URL:https://cec.konicaminolta.eu/event/demo-bcz-brazda-km-1-evo/
LOCATION:Toto bude dalsi nazov\, Galvaniho 6\, Bratislava\, Slovakia (Slovak Republic)
CATEGORIES:Demo preparation
END:VEVENT
BEGIN:VEVENT
DTSTART;TZID=UTC:20211110T080000
DTEND;TZID=UTC:20211110T160000
DTSTAMP:20260421T135255
CREATED:20210927T075744Z
LAST-MODIFIED:20211105T131149Z
UID:28473-1636531200-1636560000@cec.konicaminolta.eu
SUMMARY:Demo preparation
DESCRIPTION:[vc_row row_type="row" use_row_as_full_screen_section="no" type="full_width" text_align="left" background_animation="none" css_animation=""][vc_column][vc_row_inner row_type="row" type="full_width" use_row_as_full_screen_section_slide="no" text_align="left" css_animation=""][vc_column_inner width="1/4"][/vc_column_inner][vc_column_inner width="1/2"][vc_empty_space height="20px"][vc_column_text] \nDear visitor\,\n  \nThis content is locked and intended for registered users only.\nIf you wish to gain access to it\, please send the registration details via the form below\, and our colleagues will contact you and set it up for you. \n  \nThank you for visiting\, \n  \nKonicaMinolta Slovakia \n[/vc_column_text][vc_empty_space][/vc_column_inner][vc_column_inner width="1/4"][/vc_column_inner][/vc_row_inner][vc_row_inner row_type="row" type="full_width" use_row_as_full_screen_section_slide="no" text_align="left" css_animation=""][vc_column_inner width="1/4"][/vc_column_inner][vc_column_inner width="1/2"] \n\n\n\n\n\n\n\n\n\n\n\n\n\n\n\n Your Title\nMrMrs\n \n Your First and Last Name\n \n \n Your Email\n \n \n Your Company\n \n \n\n \n\n\n\n[vc_empty_space][/vc_column_inner][vc_column_inner width="1/4"][/vc_column_inner][/vc_row_inner][/vc_column][/vc_row]
URL:https://cec.konicaminolta.eu/event/demo-preparation-67/
LOCATION:Toto bude dalsi nazov\, Galvaniho 6\, Bratislava\, Slovakia (Slovak Republic)
CATEGORIES:Demo preparation
END:VEVENT
BEGIN:VEVENT
DTSTART;VALUE=DATE:20211112
DTEND;VALUE=DATE:20211113
DTSTAMP:20260421T135255
CREATED:20210927T080527Z
LAST-MODIFIED:20211105T130916Z
UID:28494-1636675200-1636761599@cec.konicaminolta.eu
SUMMARY:Maintenance
DESCRIPTION:[vc_row row_type="row" use_row_as_full_screen_section="no" type="full_width" text_align="left" background_animation="none" css_animation=""][vc_column][vc_row_inner row_type="row" type="full_width" use_row_as_full_screen_section_slide="no" text_align="left" css_animation=""][vc_column_inner width="1/4"][/vc_column_inner][vc_column_inner width="1/2"][vc_empty_space height="20px"][vc_column_text] \nDear visitor\,\n  \nThis content is locked and intended for registered users only.\nIf you wish to gain access to it\, please send the registration details via the form below\, and our colleagues will contact you and set it up for you. \n  \nThank you for visiting\, \n  \nKonicaMinolta Slovakia \n[/vc_column_text][vc_empty_space][/vc_column_inner][vc_column_inner width="1/4"][/vc_column_inner][/vc_row_inner][vc_row_inner row_type="row" type="full_width" use_row_as_full_screen_section_slide="no" text_align="left" css_animation=""][vc_column_inner width="1/4"][/vc_column_inner][vc_column_inner width="1/2"] \n\n\n\n\n\n\n\n\n\n\n\n\n\n\n\n Your Title\nMrMrs\n \n Your First and Last Name\n \n \n Your Email\n \n \n Your Company\n \n \n\n \n\n\n\n[vc_empty_space][/vc_column_inner][vc_column_inner width="1/4"][/vc_column_inner][/vc_row_inner][/vc_column][/vc_row]
URL:https://cec.konicaminolta.eu/event/maintenance-37/
LOCATION:Toto bude dalsi nazov\, Galvaniho 6\, Bratislava\, Slovakia (Slovak Republic)
CATEGORIES:Demo preparation
END:VEVENT
BEGIN:VEVENT
DTSTART;TZID=UTC:20211115T080000
DTEND;TZID=UTC:20211115T160000
DTSTAMP:20260421T135255
CREATED:20210927T075515Z
LAST-MODIFIED:20211105T130910Z
UID:28463-1636963200-1636992000@cec.konicaminolta.eu
SUMMARY:Demo preparation
DESCRIPTION:[vc_row row_type="row" use_row_as_full_screen_section="no" type="full_width" text_align="left" background_animation="none" css_animation=""][vc_column][vc_row_inner row_type="row" type="full_width" use_row_as_full_screen_section_slide="no" text_align="left" css_animation=""][vc_column_inner width="1/4"][/vc_column_inner][vc_column_inner width="1/2"][vc_empty_space height="20px"][vc_column_text] \nDear visitor\,\n  \nThis content is locked and intended for registered users only.\nIf you wish to gain access to it\, please send the registration details via the form below\, and our colleagues will contact you and set it up for you. \n  \nThank you for visiting\, \n  \nKonicaMinolta Slovakia \n[/vc_column_text][vc_empty_space][/vc_column_inner][vc_column_inner width="1/4"][/vc_column_inner][/vc_row_inner][vc_row_inner row_type="row" type="full_width" use_row_as_full_screen_section_slide="no" text_align="left" css_animation=""][vc_column_inner width="1/4"][/vc_column_inner][vc_column_inner width="1/2"] \n\n\n\n\n\n\n\n\n\n\n\n\n\n\n\n Your Title\nMrMrs\n \n Your First and Last Name\n \n \n Your Email\n \n \n Your Company\n \n \n\n \n\n\n\n[vc_empty_space][/vc_column_inner][vc_column_inner width="1/4"][/vc_column_inner][/vc_row_inner][/vc_column][/vc_row]
URL:https://cec.konicaminolta.eu/event/demo-preparation-63/
LOCATION:Toto bude dalsi nazov\, Galvaniho 6\, Bratislava\, Slovakia (Slovak Republic)
CATEGORIES:Demo preparation
END:VEVENT
BEGIN:VEVENT
DTSTART;TZID=UTC:20211116T080000
DTEND;TZID=UTC:20211116T160000
DTSTAMP:20260421T135255
CREATED:20210927T080236Z
LAST-MODIFIED:20211105T130905Z
UID:28487-1637049600-1637078400@cec.konicaminolta.eu
SUMMARY:BPL\, BSK
DESCRIPTION:[vc_row row_type="row" use_row_as_full_screen_section="no" type="full_width" text_align="left" background_animation="none" css_animation=""][vc_column][vc_row_inner row_type="row" type="full_width" use_row_as_full_screen_section_slide="no" text_align="left" css_animation=""][vc_column_inner width="1/4"][/vc_column_inner][vc_column_inner width="1/2"][vc_empty_space height="20px"][vc_column_text] \nDear visitor\,\n  \nThis content is locked and intended for registered users only.\nIf you wish to gain access to it\, please send the registration details via the form below\, and our colleagues will contact you and set it up for you. \n  \nThank you for visiting\, \n  \nKonicaMinolta Slovakia \n[/vc_column_text][vc_empty_space][/vc_column_inner][vc_column_inner width="1/4"][/vc_column_inner][/vc_row_inner][vc_row_inner row_type="row" type="full_width" use_row_as_full_screen_section_slide="no" text_align="left" css_animation=""][vc_column_inner width="1/4"][/vc_column_inner][vc_column_inner width="1/2"] \n\n\n\n\n\n\n\n\n\n\n\n\n\n\n\n Your Title\nMrMrs\n \n Your First and Last Name\n \n \n Your Email\n \n \n Your Company\n \n \n\n \n\n\n\n[vc_empty_space][/vc_column_inner][vc_column_inner width="1/4"][/vc_column_inner][/vc_row_inner][/vc_column][/vc_row]
URL:https://cec.konicaminolta.eu/event/bpl-bsk-3/
LOCATION:Toto bude dalsi nazov\, Galvaniho 6\, Bratislava\, Slovakia (Slovak Republic)
CATEGORIES:Demo preparation
END:VEVENT
BEGIN:VEVENT
DTSTART;VALUE=DATE:20211117
DTEND;VALUE=DATE:20211118
DTSTAMP:20260421T135255
CREATED:20210927T080022Z
LAST-MODIFIED:20211105T130901Z
UID:28481-1637107200-1637193599@cec.konicaminolta.eu
SUMMARY:Public holiday
DESCRIPTION:[vc_row row_type="row" use_row_as_full_screen_section="no" type="full_width" text_align="left" background_animation="none" css_animation=""][vc_column][vc_row_inner row_type="row" type="full_width" use_row_as_full_screen_section_slide="no" text_align="left" css_animation=""][vc_column_inner width="1/4"][/vc_column_inner][vc_column_inner width="1/2"][vc_empty_space height="20px"][vc_column_text] \nDear visitor\,\n  \nThis content is locked and intended for registered users only.\nIf you wish to gain access to it\, please send the registration details via the form below\, and our colleagues will contact you and set it up for you. \n  \nThank you for visiting\, \n  \nKonicaMinolta Slovakia \n[/vc_column_text][vc_empty_space][/vc_column_inner][vc_column_inner width="1/4"][/vc_column_inner][/vc_row_inner][vc_row_inner row_type="row" type="full_width" use_row_as_full_screen_section_slide="no" text_align="left" css_animation=""][vc_column_inner width="1/4"][/vc_column_inner][vc_column_inner width="1/2"] \n\n\n\n\n\n\n\n\n\n\n\n\n\n\n\n Your Title\nMrMrs\n \n Your First and Last Name\n \n \n Your Email\n \n \n Your Company\n \n \n\n \n\n\n\n[vc_empty_space][/vc_column_inner][vc_column_inner width="1/4"][/vc_column_inner][/vc_row_inner][/vc_column][/vc_row]
URL:https://cec.konicaminolta.eu/event/public-holiday-7/
LOCATION:Toto bude dalsi nazov\, Galvaniho 6\, Bratislava\, Slovakia (Slovak Republic)
CATEGORIES:Demo preparation
END:VEVENT
BEGIN:VEVENT
DTSTART;TZID=UTC:20211118T080000
DTEND;TZID=UTC:20211118T160000
DTSTAMP:20260421T135255
CREATED:20210927T080307Z
LAST-MODIFIED:20211105T130856Z
UID:28489-1637222400-1637251200@cec.konicaminolta.eu
SUMMARY:BPL\, BSK
DESCRIPTION:[vc_row row_type="row" use_row_as_full_screen_section="no" type="full_width" text_align="left" background_animation="none" css_animation=""][vc_column][vc_row_inner row_type="row" type="full_width" use_row_as_full_screen_section_slide="no" text_align="left" css_animation=""][vc_column_inner width="1/4"][/vc_column_inner][vc_column_inner width="1/2"][vc_empty_space height="20px"][vc_column_text] \nDear visitor\,\n  \nThis content is locked and intended for registered users only.\nIf you wish to gain access to it\, please send the registration details via the form below\, and our colleagues will contact you and set it up for you. \n  \nThank you for visiting\, \n  \nKonicaMinolta Slovakia \n[/vc_column_text][vc_empty_space][/vc_column_inner][vc_column_inner width="1/4"][/vc_column_inner][/vc_row_inner][vc_row_inner row_type="row" type="full_width" use_row_as_full_screen_section_slide="no" text_align="left" css_animation=""][vc_column_inner width="1/4"][/vc_column_inner][vc_column_inner width="1/2"] \n\n\n\n\n\n\n\n\n\n\n\n\n\n\n\n Your Title\nMrMrs\n \n Your First and Last Name\n \n \n Your Email\n \n \n Your Company\n \n \n\n \n\n\n\n[vc_empty_space][/vc_column_inner][vc_column_inner width="1/4"][/vc_column_inner][/vc_row_inner][/vc_column][/vc_row]
URL:https://cec.konicaminolta.eu/event/bpl-bsk-4/
LOCATION:Toto bude dalsi nazov\, Galvaniho 6\, Bratislava\, Slovakia (Slovak Republic)
CATEGORIES:Demo preparation
END:VEVENT
BEGIN:VEVENT
DTSTART;VALUE=DATE:20211119
DTEND;VALUE=DATE:20211120
DTSTAMP:20260421T135255
CREATED:20210927T080503Z
LAST-MODIFIED:20211105T130852Z
UID:28493-1637280000-1637366399@cec.konicaminolta.eu
SUMMARY:Maintenance
DESCRIPTION:[vc_row row_type="row" use_row_as_full_screen_section="no" type="full_width" text_align="left" background_animation="none" css_animation=""][vc_column][vc_row_inner row_type="row" type="full_width" use_row_as_full_screen_section_slide="no" text_align="left" css_animation=""][vc_column_inner width="1/4"][/vc_column_inner][vc_column_inner width="1/2"][vc_empty_space height="20px"][vc_column_text] \nDear visitor\,\n  \nThis content is locked and intended for registered users only.\nIf you wish to gain access to it\, please send the registration details via the form below\, and our colleagues will contact you and set it up for you. \n  \nThank you for visiting\, \n  \nKonicaMinolta Slovakia \n[/vc_column_text][vc_empty_space][/vc_column_inner][vc_column_inner width="1/4"][/vc_column_inner][/vc_row_inner][vc_row_inner row_type="row" type="full_width" use_row_as_full_screen_section_slide="no" text_align="left" css_animation=""][vc_column_inner width="1/4"][/vc_column_inner][vc_column_inner width="1/2"] \n\n\n\n\n\n\n\n\n\n\n\n\n\n\n\n Your Title\nMrMrs\n \n Your First and Last Name\n \n \n Your Email\n \n \n Your Company\n \n \n\n \n\n\n\n[vc_empty_space][/vc_column_inner][vc_column_inner width="1/4"][/vc_column_inner][/vc_row_inner][/vc_column][/vc_row]
URL:https://cec.konicaminolta.eu/event/maintenance-36/
LOCATION:Toto bude dalsi nazov\, Galvaniho 6\, Bratislava\, Slovakia (Slovak Republic)
CATEGORIES:Demo preparation
END:VEVENT
BEGIN:VEVENT
DTSTART;TZID=UTC:20211122T080000
DTEND;TZID=UTC:20211122T160000
DTSTAMP:20260421T135255
CREATED:20210927T075546Z
LAST-MODIFIED:20211105T130844Z
UID:28465-1637568000-1637596800@cec.konicaminolta.eu
SUMMARY:Demo preparation
DESCRIPTION:[vc_row row_type="row" use_row_as_full_screen_section="no" type="full_width" text_align="left" background_animation="none" css_animation=""][vc_column][vc_row_inner row_type="row" type="full_width" use_row_as_full_screen_section_slide="no" text_align="left" css_animation=""][vc_column_inner width="1/4"][/vc_column_inner][vc_column_inner width="1/2"][vc_empty_space height="20px"][vc_column_text] \nDear visitor\,\n  \nThis content is locked and intended for registered users only.\nIf you wish to gain access to it\, please send the registration details via the form below\, and our colleagues will contact you and set it up for you. \n  \nThank you for visiting\, \n  \nKonicaMinolta Slovakia \n[/vc_column_text][vc_empty_space][/vc_column_inner][vc_column_inner width="1/4"][/vc_column_inner][/vc_row_inner][vc_row_inner row_type="row" type="full_width" use_row_as_full_screen_section_slide="no" text_align="left" css_animation=""][vc_column_inner width="1/4"][/vc_column_inner][vc_column_inner width="1/2"] \n\n\n\n\n\n\n\n\n\n\n\n\n\n\n\n Your Title\nMrMrs\n \n Your First and Last Name\n \n \n Your Email\n \n \n Your Company\n \n \n\n \n\n\n\n[vc_empty_space][/vc_column_inner][vc_column_inner width="1/4"][/vc_column_inner][/vc_row_inner][/vc_column][/vc_row]
URL:https://cec.konicaminolta.eu/event/demo-preparation-64/
LOCATION:Toto bude dalsi nazov\, Galvaniho 6\, Bratislava\, Slovakia (Slovak Republic)
CATEGORIES:Demo preparation
END:VEVENT
BEGIN:VEVENT
DTSTART;TZID=UTC:20211124T080000
DTEND;TZID=UTC:20211124T160000
DTSTAMP:20260421T135255
CREATED:20210927T075812Z
LAST-MODIFIED:20211105T130839Z
UID:28475-1637740800-1637769600@cec.konicaminolta.eu
SUMMARY:Demo preparation
DESCRIPTION:[vc_row row_type="row" use_row_as_full_screen_section="no" type="full_width" text_align="left" background_animation="none" css_animation=""][vc_column][vc_row_inner row_type="row" type="full_width" use_row_as_full_screen_section_slide="no" text_align="left" css_animation=""][vc_column_inner width="1/4"][/vc_column_inner][vc_column_inner width="1/2"][vc_empty_space height="20px"][vc_column_text] \nDear visitor\,\n  \nThis content is locked and intended for registered users only.\nIf you wish to gain access to it\, please send the registration details via the form below\, and our colleagues will contact you and set it up for you. \n  \nThank you for visiting\, \n  \nKonicaMinolta Slovakia \n[/vc_column_text][vc_empty_space][/vc_column_inner][vc_column_inner width="1/4"][/vc_column_inner][/vc_row_inner][vc_row_inner row_type="row" type="full_width" use_row_as_full_screen_section_slide="no" text_align="left" css_animation=""][vc_column_inner width="1/4"][/vc_column_inner][vc_column_inner width="1/2"] \n\n\n\n\n\n\n\n\n\n\n\n\n\n\n\n Your Title\nMrMrs\n \n Your First and Last Name\n \n \n Your Email\n \n \n Your Company\n \n \n\n \n\n\n\n[vc_empty_space][/vc_column_inner][vc_column_inner width="1/4"][/vc_column_inner][/vc_row_inner][/vc_column][/vc_row]
URL:https://cec.konicaminolta.eu/event/demo-preparation-68/
LOCATION:Toto bude dalsi nazov\, Galvaniho 6\, Bratislava\, Slovakia (Slovak Republic)
CATEGORIES:Demo preparation
END:VEVENT
BEGIN:VEVENT
DTSTART;VALUE=DATE:20211126
DTEND;VALUE=DATE:20211127
DTSTAMP:20260421T135255
CREATED:20210927T080441Z
LAST-MODIFIED:20211105T130833Z
UID:28492-1637884800-1637971199@cec.konicaminolta.eu
SUMMARY:Maintenance
DESCRIPTION:[vc_row row_type="row" use_row_as_full_screen_section="no" type="full_width" text_align="left" background_animation="none" css_animation=""][vc_column][vc_row_inner row_type="row" type="full_width" use_row_as_full_screen_section_slide="no" text_align="left" css_animation=""][vc_column_inner width="1/4"][/vc_column_inner][vc_column_inner width="1/2"][vc_empty_space height="20px"][vc_column_text] \nDear visitor\,\n  \nThis content is locked and intended for registered users only.\nIf you wish to gain access to it\, please send the registration details via the form below\, and our colleagues will contact you and set it up for you. \n  \nThank you for visiting\, \n  \nKonicaMinolta Slovakia \n[/vc_column_text][vc_empty_space][/vc_column_inner][vc_column_inner width="1/4"][/vc_column_inner][/vc_row_inner][vc_row_inner row_type="row" type="full_width" use_row_as_full_screen_section_slide="no" text_align="left" css_animation=""][vc_column_inner width="1/4"][/vc_column_inner][vc_column_inner width="1/2"] \n\n\n\n\n\n\n\n\n\n\n\n\n\n\n\n Your Title\nMrMrs\n \n Your First and Last Name\n \n \n Your Email\n \n \n Your Company\n \n \n\n \n\n\n\n[vc_empty_space][/vc_column_inner][vc_column_inner width="1/4"][/vc_column_inner][/vc_row_inner][/vc_column][/vc_row]
URL:https://cec.konicaminolta.eu/event/maintenance-35/
LOCATION:Toto bude dalsi nazov\, Galvaniho 6\, Bratislava\, Slovakia (Slovak Republic)
CATEGORIES:Demo preparation
END:VEVENT
BEGIN:VEVENT
DTSTART;TZID=UTC:20211129T080000
DTEND;TZID=UTC:20211129T160000
DTSTAMP:20260421T135255
CREATED:20210927T075615Z
LAST-MODIFIED:20211105T130828Z
UID:28467-1638172800-1638201600@cec.konicaminolta.eu
SUMMARY:Demo preparation
DESCRIPTION:[vc_row row_type="row" use_row_as_full_screen_section="no" type="full_width" text_align="left" background_animation="none" css_animation=""][vc_column][vc_row_inner row_type="row" type="full_width" use_row_as_full_screen_section_slide="no" text_align="left" css_animation=""][vc_column_inner width="1/4"][/vc_column_inner][vc_column_inner width="1/2"][vc_empty_space height="20px"][vc_column_text] \nDear visitor\,\n  \nThis content is locked and intended for registered users only.\nIf you wish to gain access to it\, please send the registration details via the form below\, and our colleagues will contact you and set it up for you. \n  \nThank you for visiting\, \n  \nKonicaMinolta Slovakia \n[/vc_column_text][vc_empty_space][/vc_column_inner][vc_column_inner width="1/4"][/vc_column_inner][/vc_row_inner][vc_row_inner row_type="row" type="full_width" use_row_as_full_screen_section_slide="no" text_align="left" css_animation=""][vc_column_inner width="1/4"][/vc_column_inner][vc_column_inner width="1/2"] \n\n\n\n\n\n\n\n\n\n\n\n\n\n\n\n Your Title\nMrMrs\n \n Your First and Last Name\n \n \n Your Email\n \n \n Your Company\n \n \n\n \n\n\n\n[vc_empty_space][/vc_column_inner][vc_column_inner width="1/4"][/vc_column_inner][/vc_row_inner][/vc_column][/vc_row]
URL:https://cec.konicaminolta.eu/event/demo-preparation-65/
LOCATION:Toto bude dalsi nazov\, Galvaniho 6\, Bratislava\, Slovakia (Slovak Republic)
CATEGORIES:Demo preparation
END:VEVENT
END:VCALENDAR