BEGIN:VCALENDAR
VERSION:2.0
PRODID:-//CEC - ECPv6.1.1//NONSGML v1.0//EN
CALSCALE:GREGORIAN
METHOD:PUBLISH
X-ORIGINAL-URL:https://cec.konicaminolta.eu
X-WR-CALDESC:Events for CEC
REFRESH-INTERVAL;VALUE=DURATION:PT1H
X-Robots-Tag:noindex
X-PUBLISHED-TTL:PT1H
BEGIN:VTIMEZONE
TZID:UTC
BEGIN:STANDARD
TZOFFSETFROM:+0000
TZOFFSETTO:+0000
TZNAME:UTC
DTSTART:20210101T000000
END:STANDARD
END:VTIMEZONE
BEGIN:VEVENT
DTSTART;TZID=UTC:20211025T080000
DTEND;TZID=UTC:20211025T160000
DTSTAMP:20260421T170402
CREATED:20210927T074456Z
LAST-MODIFIED:20211105T131315Z
UID:28442-1635148800-1635177600@cec.konicaminolta.eu
SUMMARY:MSM meeting
DESCRIPTION:[vc_row row_type="row" use_row_as_full_screen_section="no" type="full_width" text_align="left" background_animation="none" css_animation=""][vc_column][vc_row_inner row_type="row" type="full_width" use_row_as_full_screen_section_slide="no" text_align="left" css_animation=""][vc_column_inner width="1/4"][/vc_column_inner][vc_column_inner width="1/2"][vc_empty_space height="20px"][vc_column_text] \nDear visitor\,\n  \nThis content is locked and intended for registered users only.\nIf you wish to gain access to it\, please send the registration details via the form below\, and our colleagues will contact you and set it up for you. \n  \nThank you for visiting\, \n  \nKonicaMinolta Slovakia \n[/vc_column_text][vc_empty_space][/vc_column_inner][vc_column_inner width="1/4"][/vc_column_inner][/vc_row_inner][vc_row_inner row_type="row" type="full_width" use_row_as_full_screen_section_slide="no" text_align="left" css_animation=""][vc_column_inner width="1/4"][/vc_column_inner][vc_column_inner width="1/2"] \n\n\n\n\n\n\n\n\n\n\n\n\n\n\n\n Your Title\nMrMrs\n \n Your First and Last Name\n \n \n Your Email\n \n \n Your Company\n \n \n\n \n\n\n\n[vc_empty_space][/vc_column_inner][vc_column_inner width="1/4"][/vc_column_inner][/vc_row_inner][/vc_column][/vc_row]
URL:https://cec.konicaminolta.eu/event/msm-meeting/
LOCATION:Toto bude dalsi nazov\, Galvaniho 6\, Bratislava\, Slovakia (Slovak Republic)
CATEGORIES:Demo preparation
END:VEVENT
END:VCALENDAR